BEGIN:VCALENDAR
VERSION:2.0
PRODID:Events Booking
BEGIN:VEVENT
UID:69e8df79ac351
SUMMARY:Excellence session
DESCRIPTION: 
 
 
 
 
 
 
 Yorkshire &amp\; Humberside Excellence session
 
  
 09:45-10:15 Registration
 10:15-10:45 Warm up/Body circuit
 10:45-12:15 Open Randori
 13:00-15:00 Technical session
  
 No closing date to apply for this course. Pay on the day.
  
 Free to coaches.
  
 Two attendances to these sessions equates to one revalidation.
 this course is sponsored by the Yorkshire and Humberside committee.
  
 THIS COURSE IS LICENSED FOR COACH REVALIDATION PURPOSES.
 
 
 
 
 
 
LOCATION:North St\, Goole DN14 5QX\, UK
DTSTART:20220508T084500Z
DTEND:20220508T140000Z
DTSTAMP:20220103T215655Z
ORGANIZER;CN=Yorkshire and Humberside Judo:MAILTO:web@yhjudo.org.uk
GEO:53.70259;-0.867648
X-APPLE-STRUCTURED-LOCATION;VALUE=URI;X-ADDRESS=North St\, Goole DN14 5QX\, UK;X-APPLE-RADIUS=72;X-TITLE=Goole Leisure Centre:53.70259;-0.867648
END:VEVENT
END:VCALENDAR